BEGIN:VCALENDAR
VERSION:2.0
PRODID:-//QCSO - ECPv6.15.0//NONSGML v1.0//EN
CALSCALE:GREGORIAN
METHOD:PUBLISH
X-WR-CALNAME:QCSO
X-ORIGINAL-URL:https://qcso.org
X-WR-CALDESC:Events for QCSO
REFRESH-INTERVAL;VALUE=DURATION:PT1H
X-Robots-Tag:noindex
X-PUBLISHED-TTL:PT1H
BEGIN:VTIMEZONE
TZID:America/Chicago
BEGIN:DAYLIGHT
TZOFFSETFROM:-0600
TZOFFSETTO:-0500
TZNAME:CDT
DTSTART:20250309T080000
END:DAYLIGHT
BEGIN:STANDARD
TZOFFSETFROM:-0500
TZOFFSETTO:-0600
TZNAME:CST
DTSTART:20251102T070000
END:STANDARD
BEGIN:DAYLIGHT
TZOFFSETFROM:-0600
TZOFFSETTO:-0500
TZNAME:CDT
DTSTART:20260308T080000
END:DAYLIGHT
BEGIN:STANDARD
TZOFFSETFROM:-0500
TZOFFSETTO:-0600
TZNAME:CST
DTSTART:20261101T070000
END:STANDARD
END:VTIMEZONE
BEGIN:VEVENT
DTSTART;VALUE=DATE:20251122
DTEND;VALUE=DATE:20260418
DTSTAMP:20260420T055220
CREATED:20251122T150042Z
LAST-MODIFIED:20251121T163815Z
UID:11901-1763769600-1776470399@qcso.org
SUMMARY:VfS Car Raffle
DESCRIPTION:Enter for a chance to win a 2026 Subaru Outback Premium valued at $37\,522! Raffle tickets are $100 each\, and proceeds support the QCSO’s Music Education Programs. The Grand Prize Drawing will be held on April 26\, 2026. \nA second prize of $1\,000 and a third prize of $500 will also be drawn! \nPURCHASE TICKETS \nTICKETS\n$100 Each\nOnly cash\, personal check\, money order\, bank check\, cashier’s check\, electronic check\, or debit cards are accepted.\nRaffle Tickets Cannot be Purchased with Credit Cards per Iowa State law.\n \nTickets can be purchased\n• Online with a debit card\n• By calling 563.322.7276 with a debit card\n• In-Person at the QCSO Box office at 327 Brady Street in Davenport\, IA (9:00 am – 4:30 pm Tuesday & Thursday) \nTickets will not be sold after 11:59 p.m. Central Time on April 16\, 2026 \nRULES & REGULATIONS\nComplete Rules & Regulations\n \nA Maximum of 625 Raffle Tickets will be sold. If 410 tickets are not sold by the drawing date\, the grand prize will instead be a 50/50 split of net proceeds. \nThe winner is solely responsible for all local\, state\, and federal taxes (including\, but not limited to\, income taxes and sales taxes based on the value of the car. McLaughlin Motors agrees to cover any and all state or local license\, title\, registration\, and fees). \nThe raffle is open to any individual who is 18 years of age or older. An individual can purchase as many tickets as they wish \nABOUT THE PRIZES\n• Grand Prize: 2026 Subaru Outback Premium/SDD or $20\,000 cash. The vehicle features an automatic transmission\, hands-free power rear gate\, keyless access with push-button start and PIN-code access\, and blind-spot detection with rear cross-traffic alert.\n• Second Prize: $1\,000\n• Third Prize: $500 \nGRAND PRIZE PROVIDED IN PART BY\n \nEVENT CO-CHAIRS\nDarlene & Mike Steffen
URL:https://qcso.org/event/carraffle/
LOCATION:IA
CATEGORIES:Special Events
ATTACH;FMTTYPE=image/png:https://qcso.org/wp-content/uploads/Car-Raffle-Event-Image-Square-2023-24.png
END:VEVENT
BEGIN:VEVENT
DTSTART;TZID=America/Chicago:20251206T193000
DTEND;TZID=America/Chicago:20251206T213000
DTSTAMP:20260420T055220
CREATED:20250406T000026Z
LAST-MODIFIED:20251105T183213Z
UID:24371-1765049400-1765056600@qcso.org
SUMMARY:Masterworks III: Schumann Piano Concerto
DESCRIPTION:Delight in an experience rich with elegance and virtuosic beauty! Bach’s graceful Third Orchestral Suite\, Schumann’s heartfelt Piano Concerto featuring world-renowned pianist Yefim Bronfman\, and Mozart’s joyful and exuberant “Jupiter” Symphony combine for a timeless and radiant musical experience full of warmth and connection. \nBUY TICKETS \nSave 10% with a Pick-3 Masterworks Subscription! \nSUBSCRIBE TODAY \nAdditional Event Information\nView Sunday\, December 7 @ 2:00 PM Performance \nPROGRAM\nJOHANN SEBASTIAN BACH Orchestral Suite No. 3 [20′]\nROBERT SCHUMANN Piano Concerto [31′]\nWOLFGANG AMADEUS MOZART Symphony No. 41\, “Jupiter” [31′] \nFEATURING\nMark Russell Smith\, conductor\nYefim Bronfman\, piano\nEnrich Your Experience\nINSIDE THE MUSIC\nJoin QCSO Music Director Mark Russell Smith in an exploration of the Masterworks programs on the Thursday evening preceding each Masterworks Concert. Free admission. Cash bar available. Doors open at 5:00 pm and the program starts approx 20 minutes later.\nsponsored by The Hotel Blackhawk \nCONCERT CONVERSATIONS\nOne hour prior to each Masterworks performance\, concert-goers are invited to attend informational pre-concert conversations to hear about the works on the program. A video is also available on all QCSO social media platforms.\nsponsored by Chris Connolly\, Wells Fargo Advisors \nAFTERGLOW\nMingle with Maestro Mark Russell Smith\, guest artists\, and members of the QCSO in the lobby of the Hotel Blackhawk immediately following the Saturday Masterworks Performances. Free admission. Cash bar available.\nhosted by The Hotel Blackhawk \nSponsored by
URL:https://qcso.org/event/masterworks-iii-schumann-piano-concerto/
LOCATION:Adler Theatre\, 136 E 3rd St\, Davenport\, IA\, 52801\, United States
CATEGORIES:Masterworks
ATTACH;FMTTYPE=image/png:https://qcso.org/wp-content/uploads/MWIII-Web-Event-Image-2025-26-1200-x-1200.png
END:VEVENT
BEGIN:VEVENT
DTSTART;TZID=America/Chicago:20251207T140000
DTEND;TZID=America/Chicago:20251207T160000
DTSTAMP:20260420T055220
CREATED:20250406T000053Z
LAST-MODIFIED:20251105T183246Z
UID:24373-1765116000-1765123200@qcso.org
SUMMARY:Masterworks III: Schumann Piano Concerto
DESCRIPTION:PLEASE NOTE: The Sunday Performance is at the Bartlett Performing Arts Center at Moline High School. \nDelight in an experience rich with elegance and virtuosic beauty! Bach’s graceful Third Orchestral Suite\, Schumann’s heartfelt Piano Concerto featuring world-renowned pianist Yefim Bronfman\, and Mozart’s joyful and exuberant “Jupiter” Symphony combine for a timeless and radiant musical experience full of warmth and connection. \nBUY TICKETS \nSave 10% with a Pick-3 Masterworks Subscription! \nSUBSCRIBE TODAY \nAdditional Event Information\nView Sunday\, December 6 @ 7:30 PM Performance \nPROGRAM\nJOHANN SEBASTIAN BACH Orchestral Suite No. 3 [20′]\nROBERT SCHUMANN Piano Concerto [31′]\nWOLFGANG AMADEUS MOZART Symphony No. 41\, “Jupiter” [31′] \nFEATURING\nMark Russell Smith\, conductor\nYefim Bronfman\, piano\nEnrich Your Experience\nINSIDE THE MUSIC\nJoin QCSO Music Director Mark Russell Smith in an exploration of the Masterworks programs on the Thursday evening preceding each Masterworks Concert. Free admission. Cash bar available. Doors open at 5:00 pm and the program starts approx 20 minutes later.\nsponsored by The Hotel Blackhawk \nCONCERT CONVERSATIONS\nOne hour prior to each Masterworks performance\, concert-goers are invited to attend informational pre-concert conversations to hear about the works on the program. A video is also available on all QCSO social media platforms.\nsponsored by Chris Connolly\, Wells Fargo Advisors \nAFTERGLOW\nMingle with Maestro Mark Russell Smith\, guest artists\, and members of the QCSO in the lobby of the Hotel Blackhawk immediately following the Saturday Masterworks Performances. Free admission. Cash bar available.\nhosted by The Hotel Blackhawk \nSponsored by
URL:https://qcso.org/event/masterworks-iii-schumann-piano-concerto-2/
LOCATION:Bartlett Performing Arts Center\, 3600 Avenue of the Cities\, Moline\, IL\, 61265\, United States
CATEGORIES:Masterworks
ATTACH;FMTTYPE=image/png:https://qcso.org/wp-content/uploads/MWIII-Web-Event-Image-2025-26-1200-x-1200.png
END:VEVENT
BEGIN:VEVENT
DTSTART;TZID=America/Chicago:20251213T150000
DTEND;TZID=America/Chicago:20251213T170000
DTSTAMP:20260420T055220
CREATED:20250406T000027Z
LAST-MODIFIED:20250521T161141Z
UID:24389-1765638000-1765645200@qcso.org
SUMMARY:Holiday Brass
DESCRIPTION:Ring in the holiday season with members of the QCSO Brass and Percussion sections! Under the direction of Maestro Mark Russell Smith to perform uplifting selections of classical and holiday favorites! \nBUY TICKETS \nAdditional Event Information\nView Sunday\, Dec 14th @ 3:00 PM Performance (St. Paul Lutheran) \n  \n\nFEATURING\nQCSO Brass & Percussion Sections\nMark Russell Smith\, conductor\nShellie Moore Guy\, narrator
URL:https://qcso.org/event/holiday-brass-2025/
LOCATION:Second Baptist Church\, 919 6th Ave\, Rock Island\, IL\, 61201\, United States
CATEGORIES:Special Events
ATTACH;FMTTYPE=image/png:https://qcso.org/wp-content/uploads/HB-Web-Event-Image-2025-26-1200-x-1200.png
END:VEVENT
BEGIN:VEVENT
DTSTART;TZID=America/Chicago:20251214T150000
DTEND;TZID=America/Chicago:20251214T170000
DTSTAMP:20260420T055220
CREATED:20250406T000042Z
LAST-MODIFIED:20250521T161304Z
UID:24388-1765724400-1765731600@qcso.org
SUMMARY:Holiday Brass
DESCRIPTION:Ring in the holiday season with members of the QCSO Brass and Percussion sections! Under the direction of Maestro Mark Russell Smith\, the ensemble is joined by organist Chris Nelson to perform uplifting selections of classical and holiday favorites! \nBUY TICKETS \nAdditional Event Information\nView Saturday\, Dec 13th @ 3:00 PM Performance (Second Baptist Church\, Rock Island \n  \n\nFEATURING\nQCSO Brass & Percussion Sections\nMark Russell Smith\, conductor\nChris Nelson\, organ\nShellie Moore Guy\, narrator
URL:https://qcso.org/event/holiday-brass-2025-2/
LOCATION:St. Paul Lutheran Church\, 2136 Brady St\, Davenport\, IA\, 52803\, United States
CATEGORIES:Special Events
ATTACH;FMTTYPE=image/png:https://qcso.org/wp-content/uploads/HB-Web-Event-Image-2025-26-1200-x-1200.png
END:VEVENT
END:VCALENDAR