BEGIN:VCALENDAR
VERSION:2.0
PRODID:-//QCSO - ECPv6.15.20//NONSGML v1.0//EN
CALSCALE:GREGORIAN
METHOD:PUBLISH
X-WR-CALNAME:QCSO
X-ORIGINAL-URL:https://qcso.org
X-WR-CALDESC:Events for QCSO
REFRESH-INTERVAL;VALUE=DURATION:PT1H
X-Robots-Tag:noindex
X-PUBLISHED-TTL:PT1H
BEGIN:VTIMEZONE
TZID:America/Chicago
BEGIN:DAYLIGHT
TZOFFSETFROM:-0600
TZOFFSETTO:-0500
TZNAME:CDT
DTSTART:20260308T080000
END:DAYLIGHT
BEGIN:STANDARD
TZOFFSETFROM:-0500
TZOFFSETTO:-0600
TZNAME:CST
DTSTART:20261101T070000
END:STANDARD
BEGIN:DAYLIGHT
TZOFFSETFROM:-0600
TZOFFSETTO:-0500
TZNAME:CDT
DTSTART:20270314T080000
END:DAYLIGHT
BEGIN:STANDARD
TZOFFSETFROM:-0500
TZOFFSETTO:-0600
TZNAME:CST
DTSTART:20271107T070000
END:STANDARD
BEGIN:DAYLIGHT
TZOFFSETFROM:-0600
TZOFFSETTO:-0500
TZNAME:CDT
DTSTART:20280312T080000
END:DAYLIGHT
BEGIN:STANDARD
TZOFFSETFROM:-0500
TZOFFSETTO:-0600
TZNAME:CST
DTSTART:20281105T070000
END:STANDARD
END:VTIMEZONE
BEGIN:VEVENT
DTSTART;TZID=America/Chicago:20270410T193000
DTEND;TZID=America/Chicago:20270410T213000
DTSTAMP:20260424T064649
CREATED:20260412T000016Z
LAST-MODIFIED:20260420T152258Z
UID:28383-1807385400-1807392600@qcso.org
SUMMARY:Up Close with QCSO Cello Section
DESCRIPTION:Members of the QCSO Cello section led by Principal Cello Hannah Holman invites you to a wonderful evening at Davenport Central Performing Art’s Center. \nBUY TICKETS \nAdditional Event Information\nFeaturing\nHannah Holman\, Cello\,\nQCSO Cello Section\n \nSERIES SPONSORED BY\n \nSUSAN QUAIL\nSERIES SUPPORTED BY \n \nMISSION SUPPORT BY \n \n\nFEATURING\nHannah Holman\, Cello\,\nQCSO Cello Section \n 
URL:https://qcso.org/event/up-close-with-qcso-cello-section/
LOCATION:Davenport Central Performing Arts Center\, 1120 Main St\, Davenport\, IA\, 52803\, United States
CATEGORIES:Up Close
ATTACH;FMTTYPE=image/png:https://qcso.org/wp-content/uploads/UCIII-Web-Event-Image-2026-27-1200-x-1200.png
END:VEVENT
END:VCALENDAR