BEGIN:VCALENDAR
VERSION:2.0
PRODID:-//QCSO - ECPv6.15.20//NONSGML v1.0//EN
CALSCALE:GREGORIAN
METHOD:PUBLISH
X-WR-CALNAME:QCSO
X-ORIGINAL-URL:https://qcso.org
X-WR-CALDESC:Events for QCSO
REFRESH-INTERVAL;VALUE=DURATION:PT1H
X-Robots-Tag:noindex
X-PUBLISHED-TTL:PT1H
BEGIN:VTIMEZONE
TZID:America/Chicago
BEGIN:DAYLIGHT
TZOFFSETFROM:-0600
TZOFFSETTO:-0500
TZNAME:CDT
DTSTART:20260308T080000
END:DAYLIGHT
BEGIN:STANDARD
TZOFFSETFROM:-0500
TZOFFSETTO:-0600
TZNAME:CST
DTSTART:20261101T070000
END:STANDARD
BEGIN:DAYLIGHT
TZOFFSETFROM:-0600
TZOFFSETTO:-0500
TZNAME:CDT
DTSTART:20270314T080000
END:DAYLIGHT
BEGIN:STANDARD
TZOFFSETFROM:-0500
TZOFFSETTO:-0600
TZNAME:CST
DTSTART:20271107T070000
END:STANDARD
BEGIN:DAYLIGHT
TZOFFSETFROM:-0600
TZOFFSETTO:-0500
TZNAME:CDT
DTSTART:20280312T080000
END:DAYLIGHT
BEGIN:STANDARD
TZOFFSETFROM:-0500
TZOFFSETTO:-0600
TZNAME:CST
DTSTART:20281105T070000
END:STANDARD
END:VTIMEZONE
BEGIN:VEVENT
DTSTART;TZID=America/Chicago:20270320T193000
DTEND;TZID=America/Chicago:20270320T213000
DTSTAMP:20260424T051702
CREATED:20260412T000051Z
LAST-MODIFIED:20260420T141433Z
UID:28381-1805571000-1805578200@qcso.org
SUMMARY:Up Close with Ben Coelho
DESCRIPTION:Experience an intimate evening at the Figge with Principal Bassoonist Benjamin Coelho and Pianist Marian Lee with special guests Matt Kowalczyk & Noah Droessler. \nBUY TICKETS \nAdditional Event Information\nFeaturing\nBenjamin Coelho Bassoon\nMarian Lee piano\nPlus Special Guests Matt Kowalczyk & Noah Droessler Bassoon \nSERIES SPONSORED BY\n \nSUSAN QUAIL\nSERIES SUPPORTED BY \n \nMISSION SUPPORT BY \n \n\nFEATURING\nBen Coelho\, Bassoon\,\nMarian Lee\, Piano\,\nMatt Kowalczyk\, Bassoon\,\nNoah Droessler\, Bassoon \n 
URL:https://qcso.org/event/up-close-with-ben-coelho/
LOCATION:Figge Art Museum\, 225 W 2nd St\, Davenport\, IA\, 52801\, United States
CATEGORIES:Up Close
ATTACH;FMTTYPE=image/png:https://qcso.org/wp-content/uploads/UCII-Web-Event-Image-2026-27-1200-x-1200.png
END:VEVENT
END:VCALENDAR