BEGIN:VCALENDAR
VERSION:2.0
PRODID:-//QCSO - ECPv6.15.0//NONSGML v1.0//EN
CALSCALE:GREGORIAN
METHOD:PUBLISH
X-WR-CALNAME:QCSO
X-ORIGINAL-URL:https://qcso.org
X-WR-CALDESC:Events for QCSO
REFRESH-INTERVAL;VALUE=DURATION:PT1H
X-Robots-Tag:noindex
X-PUBLISHED-TTL:PT1H
BEGIN:VTIMEZONE
TZID:America/Chicago
BEGIN:DAYLIGHT
TZOFFSETFROM:-0600
TZOFFSETTO:-0500
TZNAME:CDT
DTSTART:20250309T080000
END:DAYLIGHT
BEGIN:STANDARD
TZOFFSETFROM:-0500
TZOFFSETTO:-0600
TZNAME:CST
DTSTART:20251102T070000
END:STANDARD
END:VTIMEZONE
BEGIN:VEVENT
DTSTART;TZID=America/Chicago:20251122T193000
DTEND;TZID=America/Chicago:20251122T223000
DTSTAMP:20260420T060350
CREATED:20250406T000015Z
LAST-MODIFIED:20251113T190638Z
UID:24384-1763839800-1763850600@qcso.org
SUMMARY:Harry Potter and the Deathly Hallows™ Part 2  in Concert
DESCRIPTION:A second performance is available on November 22\, 2025\, @ 2:00 pm \nAfter seven films\, it all comes down to this: Harry Potter and the Deathly Hallows™ Part 2 will grace the screen once more—this time in concert! The characters you love are back\, battling villains and protecting Hogwarts™ from Voldemort™ himself. Hear the Quad City Symphony Orchestra bring Alexandre Desplat’s music to life and experience all the action as the film is projected onto a giant screen with this once-in-a-lifetime opportunity. \nBUY TICKETS \nAdditional Event Information\nPLAN YOUR VISIT\n \n \nView 2:00 pm\, Nov 22nd Performance \n \n  \nFEATURING\nHisham Bravo Groover\, Conductor\n\nQCSO AT THE MOVIES SUPPORTED BY:\n\nPart of the Harry Potter™ film concert series.\nBrought to you by CineConcerts. \nAll characters and elements © & ™ Warner Bros. Entertainment Inc. Publishing Rights © JKR.
URL:https://qcso.org/event/hp8-2/
LOCATION:Adler Theatre\, 136 E 3rd St\, Davenport\, IA\, 52801\, United States
CATEGORIES:Pops
ATTACH;FMTTYPE=image/png:https://qcso.org/wp-content/uploads/HP8-Web-Event-Images-1080-x-1080-2025-26.png
END:VEVENT
BEGIN:VEVENT
DTSTART;TZID=America/Chicago:20251122T140000
DTEND;TZID=America/Chicago:20251122T170000
DTSTAMP:20260420T060350
CREATED:20251113T190543Z
LAST-MODIFIED:20251113T190657Z
UID:26753-1763820000-1763830800@qcso.org
SUMMARY:Harry Potter and the Deathly Hallows™ Part 2  in Concert
DESCRIPTION:A second performance is available on November 22\, 2025\, @ 7:30 pm \nAfter seven films\, it all comes down to this: Harry Potter and the Deathly Hallows™ Part 2 will grace the screen once more—this time in concert! The characters you love are back\, battling villains and protecting Hogwarts™ from Voldemort™ himself. Hear the Quad City Symphony Orchestra bring Alexandre Desplat’s music to life and experience all the action as the film is projected onto a giant screen with this once-in-a-lifetime opportunity. \nBUY TICKETS \nAdditional Event Information\nPLAN YOUR VISIT\n \n \nView 7:30 pm\, Nov 22nd Performance \n \n  \nFEATURING\nHisham Bravo Groover\, Conductor\n\nQCSO AT THE MOVIES SUPPORTED BY:\n\nPart of the Harry Potter™ film concert series.\nBrought to you by CineConcerts. \nAll characters and elements © & ™ Warner Bros. Entertainment Inc. Publishing Rights © JKR.
URL:https://qcso.org/event/hp8/
LOCATION:Adler Theatre\, 136 E 3rd St\, Davenport\, IA\, 52801\, United States
CATEGORIES:Pops
ATTACH;FMTTYPE=image/png:https://qcso.org/wp-content/uploads/HP8-Web-Event-Images-1080-x-1080-2025-26.png
END:VEVENT
BEGIN:VEVENT
DTSTART;TZID=America/Chicago:20251025T193000
DTEND;TZID=America/Chicago:20251025T213000
DTSTAMP:20260420T060350
CREATED:20250406T000002Z
LAST-MODIFIED:20251015T175634Z
UID:24334-1761420600-1761427800@qcso.org
SUMMARY:Jurassic Park in Concert
DESCRIPTION:The action-packed adventure pits man against prehistoric predators in the ultimate battle for survival. Featuring visually stunning imagery and groundbreaking special effects\, this epic film is sheer movie magic 65 million years in the making. \nNow audiences can experience Jurassic Park as never before:  projected in HD with the Quad City Symphony Orchestra performing John Williams’ iconic score live to picture. \nWelcome… to Jurassic Park!\n \nBUY TICKETS \nSave at least 10%\, and keep your favorite seat from year to year with a Pops or QCSO at the Movies Subscription! \nSUBSCRIBE TODAY \nAdditional Event Information\n \nJoin us in the hallway connecting the RiverCenter to the Adler Theatre from 5:30-7:30 pm for Family-Friendly Treats and activities from these partners: \n \n \n \n  \nPLAN YOUR VISIT \n \n\nFEATURING\nHisham Bravo Groover\, conductor \n\nSUPPORTED BY \nQCSO AT THE MOVIES SUPPORTED BY:\n\n\n\n© Universal City Studios LLC and Amblin Entertainment\, Inc. All Rights Reserved.
URL:https://qcso.org/event/jurassic-park-in-concert/
LOCATION:Adler Theatre\, 136 E 3rd St\, Davenport\, IA\, 52801\, United States
CATEGORIES:Pops
ATTACH;FMTTYPE=image/png:https://qcso.org/wp-content/uploads/JP-Web-Event-Image-2020-21.png
END:VEVENT
BEGIN:VEVENT
DTSTART;TZID=America/Chicago:20250816T193000
DTEND;TZID=America/Chicago:20250816T213000
DTSTAMP:20260420T060350
CREATED:20250406T000015Z
LAST-MODIFIED:20250815T182815Z
UID:24385-1755372600-1755379800@qcso.org
SUMMARY:Quad City Bank & Trust Riverfront Pops | Chicago & More!
DESCRIPTION:Join us along the banks of the Mississippi for the Party of the Summer! Rock out as we celebrate the unforgettable hits of the iconic ’70s horn bands featuring show-stopping classics like “Spinning Wheel\,” “Boogie Wonderland\,” and “Does Anybody Really Know What Time It Is?”\, This spectacular event closes with our traditional renditions of Tchaikovsky’s 1812 Overture and Sousa’s Stars and Stripes Forever set to a brilliant fireworks display. \nPLEASE NOTE This event is a combination of general admission and reserved seating (bandshell seats and reserved park plots). The majority of the park will be open for general admission seating. \nBUY TICKETS \nSave at least 10%\, and keep your favorite seats from year to year with a Pops Subscription! \nSUBSCRIBE TODAY \nAdditional Event Information\nWEATHER\nQCBT Riverfront Pops is a rain-or-shine event. \nTIMELINE\n4:00 pm | Event Area Gates Open (No access prior to 4:00 p.m.).6:30 pm | Pre-Show featuring the Youth Symphony Orchestra7:30 pm | Chicago & more! \nADMISSION & SEATING\nThis event is a combination of general admission and reserved seating. Guests are encouraged to bring their own chairs\, blankets\, and tables to enjoy the grassy lawn.  Limited reserved permanent bandshell seating and reserved plots on the lawn are available for purchase.  If you purchase a reserved plot\, please ensure that both the people in your group and items you bring can comfortably fit within the designated plot area and that the aisles are kept clear to allow audience traffic. \nView the Bandshell Map  View the Park Plot Map \nTICKETS\nGENERAL ADMISSION\nAdults $23.00 in advance* & Children $6.00\n(Children are individuals between the ages of 3-13. Adult prices increase $8.00 on Friday\, August 15\, 2025)Have a group of 15 or more? Learn about group discounts.\nRESERVED PERMANENT BANDSHELL\nBandshell Premiere & Bandshell Regular available\n\nRESERVED PARK PLOTS\n10 Person\, 6 Person\, & 2 Person-plots available\n15′ x 15′\, 10 ‘x 10′\, & 5′ x 10’ \nTickets will be sold on-site at the gate beginning at 4:00 p.m. \nENTRY\nThe entry gates will be at Harrison & Ripley Street. \nBandshell & Reserved Plot Ticket holders will enter at the Ripley Street Gate\, and those concertgoers covered by your ticket plot purchase must enter with a provided reserved seat wristband. These wristbands will be mailed out 3 weeks before the event. The wristbands for any reserved seats purchased after August 1st\, will be placed in will-call and available for pick up at the QCSO Box Office before the event\, or at the Will Call tent starting at 4:00 pm on concert day. \nAll patrons will be subject to a handheld wand screening. All patrons must prepare and complete a bag and/or cooler check. The QCSO reserves the right to refuse admission to patrons who refuse to allow inspection of their persons and any items desired to bring into the facility. \nReentry: Patrons who choose to leave the park during the event and wish to reenter should request a wristband before exiting and will be subject to wand screen and bag/cooler check upon reentry. \nACCESSIBILITY\nHandicap parking is available on Harrison Street just north of the entry gate.  Space is limited and a handicap tag is required to use this lot. Accessible seating is available in the permanent bandshell seats. \nRESERVED PLOTS\nTicket buyers will purchase a specific plot of land in LeClaire Park as they would a seat at a concert venue.  These plots will be clearly designated and sized for groups of up to 10\, 6\, or 2 people. \nIf you purchase a reserved plot\, please ensure that both the people in your group and the items you bring can comfortably fit within the designated plot area and the aisles are kept clear to allow audience traffic. Those concertgoers covered by your ticket plot purchase must enter together or enter with a provided reserved seat wristband. \nFOOD & BEVERAGE\nVendors will be on-site\, but guests can bring in their own food and beverages. Those who choose to enjoy alcoholic beverages must drink responsibly.] \n \n \nPARKING\nThe City of Davenport has three public parking ramps that use a self-service Pay-by-Plate system\, so after parking\, make note of your license plate number to correctly pay and exit the ramp after the show.  More information is available on the City of Davenport website. Please make sure you are parking in a public parking space.  Most downtown parking lots are private and may tow any illegally parked vehicle. \nA limited amount of accessible parking will be available in the public lot on Harrison Street just outside the park’s entrance. Accessible parking will open at 4:00 PM. \nEVENT SAFETY \nTo ensure a safe and enjoyable event evening for all performers\, staff\, and attendees\, the Quad City Symphony Orchestra has implemented a Security Checkpoint Screening for all guests attending QCBT Riverfront Pops. Please be patient and plan ahead. \nSecurity Checkpoints Entering the Park \n\nAll patrons will be subject to a handheld wand screening.\nAll patrons must prepare and complete a bag and/or cooler check.\nThe QCSO reserves the right to refuse admission to patrons who refuse to allow inspection of their persons and any items desired to bring into the facility.\nReentry: Patrons who choose to leave the park during the event and wish to reenter should request a wristband before exiting and will be subject to wand screen and bag/cooler check upon reentry.\n\nProhibited Items \n\nSmoking and vaping inside the park.\nFirearms and any ammunition or accessories to weapons. Conceal and carry is not permitted\, including concealed licensed.\nWeapons of any kind including toy weapons (i.e. knives\, pepper spray and other aerosols\, key rings/key chains for self-defense\, stun-guns.)\nAnimals (except for documented service animals)\nGrills\, open flames\, or firepits.\nLawn stakes\nTents or items that would obstruct the view of others\nDrones\nSporting equipment including balls or discs.\n\n\nQuestions? \nContact the QCSO Box Office at 563.322.7276 or email info@qcso.org on weekdays between 9:00 am and 4:30 pm. \nFEATURING\nHisham Bravo Groover\, conductor\nJean Meilleur\, lead vocals\nGavin Hope\, lead vocals\nStephanie Martin\, backing and feature vocals\nAndrea Koziol\, backing and feature vocals\nPeter Mueller\, guitar\nMitch Tyler\, bass\nJeff Christmas\, drums\nSteve Holowitz\, keys\nPaul Stevenson\, feature trumpet\nJEANS ‘N CLASSICS\nJeans ‘n Classics has been bringing their impressive symphonic rock catalogue to symphony audiences across North America for the past three decades\, with a long list of crowd pleasing shows. This tight-knit collection of top players and vocalists has become a star performer in the arts and entertainment scene. Most definitely not a tribute act\, Jeans ‘n Classics faithfully interprets the music of legendary rock and pop albums and artists\, with their own special and signature flair.\nSPONSORED BY\n \nPRODUCED BY\nJEANS ‘N CLASSICS
URL:https://qcso.org/event/qcbt-riverfront-pops-chicago-and-more/
LOCATION:LeClaire Park\, 400 West Beiderbecke Drive\, Davenport\, IA\, 52802\, United States
CATEGORIES:Pops
ATTACH;FMTTYPE=image/png:https://qcso.org/wp-content/uploads/Web-Event-Images-1200-x-1200-2025-26.png
END:VEVENT
BEGIN:VEVENT
DTSTART;TZID=America/Chicago:20250510T193000
DTEND;TZID=America/Chicago:20250510T213000
DTSTAMP:20260420T060350
CREATED:20240403T231512Z
LAST-MODIFIED:20250509T011208Z
UID:20646-1746905400-1746912600@qcso.org
SUMMARY:Video Games in Concert
DESCRIPTION:Join the QCSO and experience your favorite video games like never before! Video Games in Concert is an immersive concert experience with the QCSO performing music from cherished video games with synchronized video projected on the big screen.  This multimedia concert brings to life video games like Halo\, World of Warcraft\, Kingdom Hearts\, Metal Gear Solid\, Castlevania\, Skyrim and so many more!   \nPURCHASE TICKETS \nAdditional Event Information\n \nJoin us in the hallway connecting the RiverCenter to the Adler Theatre from 5:30 to 7:30 p.m. for Family-Friendly booths and activities. \nJOIN THE FUN!\nBe part of the Video Games Pre-Concert Experience and promote your Group\, Organization\, or Business. Participation is Free! \nLEARN MORE | SIGN-UP \n \n \nPLAN YOUR VISIT \n\nFEATURING\nHisham Bravo Groover\, conductor
URL:https://qcso.org/event/video-games/
LOCATION:Adler Theatre\, 136 E 3rd St\, Davenport\, IA\, 52801\, United States
CATEGORIES:Pops
ATTACH;FMTTYPE=image/png:https://qcso.org/wp-content/uploads/VG-Web-Event-Image-2024-25-1200-x-1200.png
END:VEVENT
BEGIN:VEVENT
DTSTART;TZID=America/Chicago:20250510T190000
DTEND;TZID=America/Chicago:20250510T213000
DTSTAMP:20260420T060350
CREATED:20250430T195505Z
LAST-MODIFIED:20250430T195505Z
UID:24556-1746903600-1746912600@qcso.org
SUMMARY:Cosplay Competition
DESCRIPTION:Held before Video Games in Concert \nCalling all heroes\, villains\, wizards\, warriors\, and game icons! Join us for a pre-show Cosplay Competition and celebrate your fandom before the Quad City Symphony Orchestra presents Video Games in Concert. Three incredible prizes will be awarded\, with the grand prize being two QCSO at the Movies subscriptions (a $226 value) \nThe competition is free to enter\, but entrants must have a ticket and be attending Video Games in Concert. \nSIGN UP TO PARTICIPATE! \nWho Can Participate\n\nAll ages are welcome. Participants under 13 must be accompanied by an adult.\nCostumes may be inspired by any fandom — not just video games.\nTo enter\, you must:\n\nHave a ticket and be attending the QCSO’s Video Games in Concert on Saturday\, May 10\, 2025\nFill out the online entry form in advance\n\n\n\nCostume Guidelines\n\nCostumes must not block the view of other patrons once seated for the concert.\nCostumes must be family-friendly (rated G or PG).\nPlease avoid:\n\nExcessive gore or horror effects\nOverly revealing outfits\nInappropriate or offensive symbols\, language\, or imagery\n\n\nCostumes should be safe to walk in and not obstructive in crowded areas.\n\nProp & Weapon Policy\n\nNo real weapons are allowed\, including firearms\, knives\, or blunt objects.\nProp weapons must be clearly fake and may be subject to inspection and peace-bonding by event staff.\nNo functioning projectile weapons\, such as Nerf guns\, airsoft\, or slingshots.\n\nSafety & Conduct\n\nCostumes must allow for safe movement and clear vision.\nNo open flames\, smoke effects\, or disruptive sound/lights permitted.\nBe respectful to all guests and staff. Disruptive or unsafe behavior may result in disqualification or removal.\nCosplay is not consent – please ask before photographing or touching someone.\n\nJudging & Photography\n\nAll participants must check in at the Cosplay Station upon arrival.\nJudging will take place before the concert and is based on:\n\nCreativity\nCraftsmanship\nCharacter presentation\n\n\nWinners will be announced before the concert begins. There will also be time for group photos.\n\nPrizes\n\nFirst Place: 2 Subscriptions to QCSO at the Movies – Zone 1 Adult ($226 total value)\nSecond Place: 2 Zone 1 Adult Tickets to either Jurassic Park in Concert or Harry Potter and the Deathly Hallows™ Part 2 in Concert ($106 total value)\nThird Place: 2 General Admission Adult Tickets to QCBT Riverfront Pops: Chicago & More\n\nWe can’t wait to see your creativity on display. Let the cosplay begin! \nAdditional Event Information\n \nJoin us in the hallway connecting the RiverCenter to the Adler Theatre from 5:30 to 7:30 p.m. for Family-Friendly booths and activities. \nJOIN THE FUN!\nBe part of the Video Games Pre-Concert Experience and promote your Group\, Organization\, or Business. Participation is Free! \nLEARN MORE | SIGN-UP
URL:https://qcso.org/event/cosplay-competition/
LOCATION:Adler Theatre\, 136 E 3rd St\, Davenport\, IA\, 52801\, United States
CATEGORIES:Pops
ATTACH;FMTTYPE=image/png:https://qcso.org/wp-content/uploads/VG-Cosplay-Competition-1080-x-1080.png
END:VEVENT
END:VCALENDAR