BEGIN:VCALENDAR
VERSION:2.0
PRODID:-//QCSO - ECPv6.15.20//NONSGML v1.0//EN
CALSCALE:GREGORIAN
METHOD:PUBLISH
X-WR-CALNAME:QCSO
X-ORIGINAL-URL:https://qcso.org
X-WR-CALDESC:Events for QCSO
REFRESH-INTERVAL;VALUE=DURATION:PT1H
X-Robots-Tag:noindex
X-PUBLISHED-TTL:PT1H
BEGIN:VTIMEZONE
TZID:America/Chicago
BEGIN:DAYLIGHT
TZOFFSETFROM:-0600
TZOFFSETTO:-0500
TZNAME:CDT
DTSTART:20250309T080000
END:DAYLIGHT
BEGIN:STANDARD
TZOFFSETFROM:-0500
TZOFFSETTO:-0600
TZNAME:CST
DTSTART:20251102T070000
END:STANDARD
BEGIN:DAYLIGHT
TZOFFSETFROM:-0600
TZOFFSETTO:-0500
TZNAME:CDT
DTSTART:20260308T080000
END:DAYLIGHT
BEGIN:STANDARD
TZOFFSETFROM:-0500
TZOFFSETTO:-0600
TZNAME:CST
DTSTART:20261101T070000
END:STANDARD
BEGIN:DAYLIGHT
TZOFFSETFROM:-0600
TZOFFSETTO:-0500
TZNAME:CDT
DTSTART:20270314T080000
END:DAYLIGHT
BEGIN:STANDARD
TZOFFSETFROM:-0500
TZOFFSETTO:-0600
TZNAME:CST
DTSTART:20271107T070000
END:STANDARD
END:VTIMEZONE
BEGIN:VEVENT
DTSTART;TZID=America/Chicago:20261003T193000
DTEND;TZID=America/Chicago:20261003T213000
DTSTAMP:20260424T200814
CREATED:20260412T000028Z
LAST-MODIFIED:20260415T160626Z
UID:28323-1791055800-1791063000@qcso.org
SUMMARY:Masterworks I: Symphonie fantastique
DESCRIPTION:The 112th Season starts with Dvořák’s vibrant Carnival Overture and Beethoven’s poetic Fourth Piano Concerto performed by QC-native Thomas Sauer. The night closes with Berlioz’s spellbinding Symphonie fantastique\, a whirlwind of obsession\, dreams\, and dazzling orchestral color.\n \nSUBSCRIBE TODAY\nTickets are currently available in subscription package or as an add on. Single Ticket sales open May 19th at 9:00 am. \nSave 10-25% with Masterworks Pick-3 or Full Subscriptions. Learn More \nAdditional Event Information\nView Sunday\, October 4 @ 2:00 PM Performance \nPROGRAM\n \nANTONÍN DVOŘÁK Carnival Overture\, op.92 (10’)\nLUDWIG VAN BEETHOVEN Piano Concerto No.4\nHECTOR BERLIOZ Symphonie fantastique\, op.14 (49′)\n \n\nMASTERWORKS SUPPORTED BY\n   \nMISSION SUPPORT BY\n \nFEATURING\nMark Russell Smith\, conductor\nThomas Sauer\, piano\nEnrich Your Experience\nINSIDE THE MUSIC\nJoin QCSO Music Director Mark Russell Smith in an exploration of the Masterworks programs on the Thursday evening preceding each Masterworks Concert. Free admission. Cash bar available. Doors open at 5:00 pm and the program starts approx 20 minutes later.\nsponsored by The Hotel Blackhawk \nCONCERT CONVERSATIONS\nOne hour prior to each Masterworks performance\, concert-goers are invited to attend informational pre-concert conversations to hear about the works on the program. A video is also available on all QCSO social media platforms.\nsponsored by Chris Connolly\, Wells Fargo Advisors \nAFTERGLOW\nMingle with Maestro Mark Russell Smith\, guest artists\, and members of the QCSO in the lobby of the Hotel Blackhawk immediately following the Saturday Masterworks Performances. Free admission. Cash bar available.\nhosted by The Hotel Blackhawk
URL:https://qcso.org/event/masterworks-i-symphonie-fantastique-2/
LOCATION:Adler Theatre\, 136 E 3rd St\, Davenport\, IA\, 52801\, United States
CATEGORIES:Masterworks
ATTACH;FMTTYPE=image/png:https://qcso.org/wp-content/uploads/MWI-Web-Event-Image-2026-27-1200-x-1200.png
END:VEVENT
BEGIN:VEVENT
DTSTART;TZID=America/Chicago:20261004T140000
DTEND;TZID=America/Chicago:20261004T160000
DTSTAMP:20260424T200814
CREATED:20260412T000008Z
LAST-MODIFIED:20260415T160547Z
UID:28352-1791122400-1791129600@qcso.org
SUMMARY:Masterworks I: Symphonie fantastique
DESCRIPTION:The 112th Season starts with Dvořák’s vibrant Carnival Overture and Beethoven’s poetic Fourth Piano Concerto performed by QC-native Thomas Sauer. The night closes with Berlioz’s spellbinding Symphonie fantastique\, a whirlwind of obsession\, dreams\, and dazzling orchestral color.\n \nSUBSCRIBE TODAY\nTickets are currently available in subscription package or as an add on. Single Ticket sales open May 19th at 9:00 am. \nSave 10-25% with Masterworks Pick-3 or Full Subscriptions. Learn More \nAdditional Event Information\nView Saturday\, October 3 @ 2:00 PM Performance \nPROGRAM\n \nANTONÍN DVOŘÁK Carnival Overture\, op.92 (10’)\nLUDWIG VAN BEETHOVEN Piano Concerto No.4\nHECTOR BERLIOZ Symphonie fantastique\, op.14 (49′)\n \n\nMASTERWORKS SUPPORTED BY\n   \nMISSION SUPPORT BY\n \nFEATURING\nMark Russell Smith\, conductor\nThomas Sauer\, piano\nEnrich Your Experience\nINSIDE THE MUSIC\nJoin QCSO Music Director Mark Russell Smith in an exploration of the Masterworks programs on the Thursday evening preceding each Masterworks Concert. Free admission. Cash bar available. Doors open at 5:00 pm and the program starts approx 20 minutes later.\nsponsored by The Hotel Blackhawk \nCONCERT CONVERSATIONS\nOne hour prior to each Masterworks performance\, concert-goers are invited to attend informational pre-concert conversations to hear about the works on the program. A video is also available on all QCSO social media platforms.\nsponsored by Chris Connolly\, Wells Fargo Advisors \nAFTERGLOW\nMingle with Maestro Mark Russell Smith\, guest artists\, and members of the QCSO in the lobby of the Hotel Blackhawk immediately following the Saturday Masterworks Performances. Free admission. Cash bar available.\nhosted by The Hotel Blackhawk
URL:https://qcso.org/event/masterworks-i-symphonie-fantastique/
LOCATION:Centennial Hall\, 3703 7th Ave\, Rock Island\, IL\, 61201\, United States
CATEGORIES:Masterworks
ATTACH;FMTTYPE=image/png:https://qcso.org/wp-content/uploads/MWI-Web-Event-Image-2026-27-1200-x-1200.png
END:VEVENT
END:VCALENDAR